BEGIN:VCALENDAR
VERSION:2.0
PRODID:-//Baulmes Culture - ECPv6.15.17.1//NONSGML v1.0//EN
CALSCALE:GREGORIAN
METHOD:PUBLISH
X-WR-CALNAME:Baulmes Culture
X-ORIGINAL-URL:https://baulmes-culture.ch
X-WR-CALDESC:Évènements pour Baulmes Culture
REFRESH-INTERVAL;VALUE=DURATION:PT1H
X-Robots-Tag:noindex
X-PUBLISHED-TTL:PT1H
BEGIN:VTIMEZONE
TZID:Europe/Paris
BEGIN:DAYLIGHT
TZOFFSETFROM:+0100
TZOFFSETTO:+0200
TZNAME:CEST
DTSTART:20230326T010000
END:DAYLIGHT
BEGIN:STANDARD
TZOFFSETFROM:+0200
TZOFFSETTO:+0100
TZNAME:CET
DTSTART:20231029T010000
END:STANDARD
BEGIN:DAYLIGHT
TZOFFSETFROM:+0100
TZOFFSETTO:+0200
TZNAME:CEST
DTSTART:20240331T010000
END:DAYLIGHT
BEGIN:STANDARD
TZOFFSETFROM:+0200
TZOFFSETTO:+0100
TZNAME:CET
DTSTART:20241027T010000
END:STANDARD
BEGIN:DAYLIGHT
TZOFFSETFROM:+0100
TZOFFSETTO:+0200
TZNAME:CEST
DTSTART:20250330T010000
END:DAYLIGHT
BEGIN:STANDARD
TZOFFSETFROM:+0200
TZOFFSETTO:+0100
TZNAME:CET
DTSTART:20251026T010000
END:STANDARD
END:VTIMEZONE
BEGIN:VEVENT
DTSTART;TZID=Europe/Paris:20240921T191500
DTEND;TZID=Europe/Paris:20240921T191500
DTSTAMP:20260419T152344
CREATED:20240820T134035Z
LAST-MODIFIED:20240921T152703Z
UID:341-1726946100-1726946100@baulmes-culture.ch
SUMMARY:Concert de l'Ensemble Les Souspirs
DESCRIPTION:Autour de Nicola Vicentino\nPortrait d’un génie de la Renaissance italienne \nSarah van Cornewal\, Sara Boesch\, Carla Claros Rollano et Véronique\nJamain\, flûtes – Sarah Walder\, viole de gambe – Gabriel Wolfer\, orgue –\nMarjeta Iva Cerar\, cantus – Jérôme Vavasseur\, contre-ténor – Lionel\nDesmeules et Augustin Laudet\, ténors – Frederik Sjollema\, Baryton
URL:https://baulmes-culture.ch/event/concert-de-lensemble-les-souspires/
LOCATION:Temple de Baulmes\, Temple de Baulmes\, Baulmes\, Vaud\, 1446\, Suisse
CATEGORIES:Concert
END:VEVENT
END:VCALENDAR